Workbook
Name asd: #REF!
Name ControlInterno008Auditorias: #REF!
Name DirecciónGeneral: #REF!
Name DirecciónGeneral002Actas: #REF!
Name DirecciónGeneral002Actas028ActasdelSubcomitedeAutocontrol: #REF!
Name DirecciónGeneral004AcuerdosdeGestión: #REF!
Name DirecciónGeneral039Informes: #REF!
Name DirecciónGeneral061: #REF!
Name DirecciónGeneral061asd: #REF!
Name DirecciónGeneral061PeticionesQuejasSugerenciasyDenuncias: #REF!
Name DirecciónGeneral072Programas: #REF!
Name DireccionGeneral15454: #REF!
Name DirecciónGeneralNA: #REF!
Name DirecciónGeneralNoAplica: #REF!
Name Informe1: #REF!
Name OficinaAsesoradeComunicacionesyRelacionesInterinstitucionales002Actas: #REF!
Name OficinaAsesoradeComunicacionesyRelacionesInterinstitucionales014CanalesdeComunicaciónyDivulgación: #REF!
Name OficinaAsesoradeComunicacionesyRelacionesInterinstitucionales039Informes: #REF!
Name OficinaAsesoradeComunicacionesyRelacionesInterinstitucionales061PeticionesQuejasSugerenciasyDenuncias: #REF!
Name OficinaAsesoradeComunicacionesyRelacionesInterinstitucionales062Planes: #REF!
Name OficinaAsesoradeComunicacionesyRelacionesInterinstitucionalesNA: #REF!
Name OficinaAsesoradeComunicacionesyRelacionesInterinstitucionalesNoAplica: #REF!
Name OficinaAsesoradePlaneación002Actas: #REF!
Name OficinaAsesoradePlaneación039Informes: #REF!
Name OficinaAsesoradePlaneación057ModelodeTransformaciónOrganizacional: #REF!
Name OficinaAsesoradePlaneación061PeticionesQuejasSugerenciasyDenuncias: #REF!
Name OficinaAsesoradePlaneación063Planes: #REF!
Name OficinaAsesoradePlaneación068ProcesosdelSistemaintegradodeGestión: #REF!
Name OficinaAsesoradePlaneación074Proyectos: #REF!
Name OficinaAsesoradePlaneaciónNA: #REF!
Name OficinaAsesoradePlaneaciónNoAplica: #REF!
Name OficinadeControlInterno002Actas: #REF!
Name OficinadeControlInterno008Auditorias: #REF!
Name OficinadeControlInterno008Auidtorias: #REF!
Name OficinadeControlInterno039Informes: #REF!
Name OficinadeControlInterno061PeticionesQuejasSugerenciasyDenuncias: #REF!
Name OficinadeControlInterno072Programas: #REF!
Name OficinadeControlInternoNA: #REF!
Name OficinadeControlInternoNoAplica: #REF!
Name OficinadeTecnologíadelaInformaciónylasComunicaciones002Actas: #REF!
Name OficinadeTecnologíadelaInformaciónylasComunicaciones036GestiónTecnologicadeinformación: #REF!
Name OficinadeTecnologíadelaInformaciónylasComunicaciones039Informes: #REF!
Name OficinadeTecnologíadelaInformaciónylasComunicaciones049MantenimientoysoportedeHardwareysoftware: #REF!
Name OficinadeTecnologíadelaInformaciónylasComunicaciones061PeticionesQuejasSugerenciasyDenuncias: #REF!
Name OficinadeTecnologíadelaInformaciónylasComunicaciones063Planes: #REF!
Name OficinadeTecnologíadelaInformaciónylasComunicaciones065Politicasinformaticas: #REF!
Name OficinadeTecnologíadelaInformaciónylasComunicaciones075Proyectosdetecnologiasdelainformaciónylascomunicaciones: #REF!
Name OficinadeTecnologíadelaInformaciónylasComunicacionesNA: #REF!
Name OficinadeTecnologíadelaInformaciónylasComunicacionesNoAplica: #REF!
Name SAFApoyoLogístico002Actas: #REF!
Name SAFApoyoLogístico011BajadeElementos: #REF!
Name SAFApoyoLogístico021ComprobantesdeAlamacen: #REF!
Name SAFApoyoLogístico021ComprobantesdeAlamcen: #REF!
Name SAFApoyoLogístico021ComprobantesdeAlmacen: #REF!
Name SAFApoyoLogístico028ControldelParqueAutomotor: #REF!
Name SAFApoyoLogístico038HojadeVidadeVehiculos: #REF!
Name SAFApoyoLogístico038HojasdeVidadeVehiculos: #REF!
Name SAFApoyoLogístico039Informes: #REF!
Name SAFApoyoLogístico042InventarioGeneraldeActivosFijos: #REF!
Name SAFApoyoLogístico043InventarioGeneraldeBienes: #REF!

Sheet INSTRUCTIVO
A1: No. | B1: CAMPO | D1: TIPO | E1: INFORMACIÓN QUE DEBE CONTENER
A2: 1 | B2: FECHA DE ELABORACIÓN O ACTUALIZACIÓN (mes/Año): | D2: Fecha | E2: Registre la fecha en que se diligencia el inventario de activos de información y cuadro de caracterización documental en el formato mes/Año. Ejemplo: enero/2025; ene/2025.
A3: 2 | B3: IDENTIFICADOR DEL ACTIVO DE INFORMACIÓN | C3: Identificador | D3: Calculado | E3: Este campo no debe ser diligenciado manualmente, ya que se calcula automáticamente al seleccionar la dependencia (campo #3). Corresponde al identificador único del activo, compuesto por el código de la dependencia seguido de un consecutivo.
A4: 3 | B4: DEPENDENCIA | C4: Dependencia | D4: Lista | E4: Seleccione la Subdirección u Oficina que está identificando y es responsable del activo de información
A5: 4 | C5: Proceso | D5: Lista | E5: Seleccione el Proceso que identifica el activo de información
A6: 5 | B6: DESCRIPCIÓN DEL ACTIVO DE INFORMACIÓN | C6: Nombre o título de la categoría de información | D6: Lista | E6: Seleccione el tipo al cual pertenece el activo. Las opciones disponibles son: INFORMACIÓN, HARDWARE, SOFTWARE, SERVICIOS, RECURSO HUMANO, INSTALACIONES u OTROS. Para mayor orientación, consulte el Manual GTI-MN-02: Clasificación de Activos de Información.
A7: 6 | C7: Norma o Función (Cuando aplique) | D7: Texto | E7: Este campo solo aplica cuando se seleccione la categoría “Información” en el campo #5 - columna “E”. Relacione la norma y el (los) artículo(s) o función que permite la producción del documento de archivo (registro). En caso de no aplicar, diligencie "N/A"
A8: 7 | C8: Código del Procedimiento o Formato | D8: Texto | E8: Este campo solo aplica cuando se seleccione la categoría “Información” en el campo #5 - columna “E”. Registre el código del procedimiento en el que se encuentra referenciado el documento de archivo o registro y su versión En caso de no aplicar, diligencie "N/A"
A9: 8 | B9: CLASIFICACIÓN DOCUMENTAL - CATEGORIA DE INFORMACIÓN PARA ACTIVOS DE TIPO "INFORMACIÓN" | C9: Tipo de Origen | D9: Lista | E9: Este campo solo aplica cuando se seleccione la categoría “Información” en el campo #5 - columna “E”. Seleccione una de las siguientes opciones, según corresponda al origen del activo de información: “Interno”, “Externo” o “N/A”.
A10: 9 | C10: Serie Documental (TRD) | D10: Texto | E10: Este campo solo aplica cuando se seleccione la categoría “Información” en el campo #5 - columna “E”. Para los demás tipos de activos, diligencie “N/A”. Ingrese la serie documental asignada en la Tabla de Retención Documental (TRD). En caso de que el activo de información no cuente con una clasificación documental definida, registre la expresión “Sin establecer” y gestione la revisión del Cuadro de Clasificación Documental, con el fin de proceder a la actualización o elaboración de la TRD, según sea el caso.
A11: 10 | C11: Subserie Documental (TRD) | D11: Texto | E11: Este campo solo aplica cuando se seleccione la categoría “Información” en el campo #5 - columna “E”. Para los demás tipos de activos, diligencie “N/A”. Ingrese la subserie documental asignada en la Tabla de Retención Documental (TRD). En caso de que el activo de información no cuente con una clasificación documental definida, registre la expresión “Sin establecer” y gestione la revisión del Cuadro de Clasificación Documental, con el fin de proceder a la actualización o elaboración de la TRD, según sea el caso.
A12: 11 | B12: DESCRIPCIÓN DEL ACTIVO DE INFORMACIÓN Y TIPO DOCUMENTAL | C12: Nombre o Título de la Información | D12: Texto | E12: Término con que se da a conocer el nombre o asunto de la información.
A13: 12 | C13: Descripción del Contenido la Categoria de Información | D13: Texto | E13: Descripción breve de que trata el activo de información. Puede ser tomada de las fichas de Valoración Documental, si ya se encuentran elaboradas.
A14: 13 | C14: Idioma | D14: Lista | E14: Este campo solo aplica cuando se seleccione la categoría “Información” en el campo #5 - columna “E”. Para los demás tipos de activos, diligencie “N/A”. Establecer el Idioma, lengua o dialecto en que se encuentra la información consignada en el documento de archivo (registro). Español / ingles.
A15: 14 | B15: CONSERVACIÓN Y SOPORTE | C15: Medio de Conservación y Soporte | D15: Lista | E15: Este campo solo aplica cuando se seleccione la categoría “Información” en el campo #5 - columna “E”. Para los demás tipos de activos, diligencie “N/A”. Selecciones dentro de las opciones: • Análogo: marcar con una “X” si el documento se encuentra elaborado en soporte papel y cinta (video, casete, película, microfilm, entre otros). • Digital: marcar con una “X” en caso de que el documento (registro) haya sido digitalizado o haya sufrido un proceso de conversión de una señal o soporte analógico a una representación digital. • Electrónico: marcar con una “X” si el registro de la información generada, recibida, almacenada y comunicada se encuentra en medios electrónicos, y permanece en estos medios durante su ciclo vital.
A16: 15 | C16: Formato | D16: Lista | E16: Este campo solo aplica cuando se seleccione la categoría “Información” en el campo #5 - columna “E”. Para los demás tipos de activos, diligencie “N/A”. Registre el formato en el que la información permite su visualización o consulta tales como, sin limitarse a estos: Documento de texto (.doc, .odt, .pdf) Hoja de cálculo (.xls, .xlsx, .ods) Presentación (.ppt, .odp) Imagen (.jpg, .png, .tif) Archivo comprimido (.zip, .rar) Audio (.mp3, .wav) Video (.mp4, .avi) Base de datos (.sql, .csv, .db) HTML / Página web (.html) Texto plano (.txt) Código fuente (.py, .js, .java, .php, etc.) Nota: Si el documento es análogo se debe diligenciar no aplica (N.A.)
A17: 16 | C17: Información Publicada o Disponible | D17: Lista | E17: Seleccione la opción correspondiente: Publicada: La información puede consultarse en un sitio web o sistema de información del Estado. Disponible: La información no está publicada en ningún sitio, pero está disponible para consulta. N/A: Si el campo “Nombre o título de la categoría de información” (Columna E) es diferente de “Información”.
A18: 17 | C18: Interoperabilidad | D18: Lista | E18: Indique si el activo (información o software) interopera o intercambia información con otra entidad o tercero. Opciones: Sí No N/A (Si el campo “Nombre o título de la categoría de información” (Columna E) es diferente de “Información” o “Software”)
A19: 18 | C19: Estado | D19: Lista | E19: Define el estado en que se encuentra el activo de información. Activo: se encuentra en uso en la entidad. Inactivo: Ya no se encuentra en uso o se le ha dado de baja.
A20: 19 | B20: CUSTODIA DE LOS ACTIVOS DE INFORMACIÓN | C20: Lugar de Consulta Física (Ubicación) | D20: Texto | E20: Indique la ubicación física del activo. Si el activo existe únicamente en formato digital, diligencie “N/A”. Importante: Si el campo “Nombre o título de la categoría de información” (Columna E) es diferente de “Información”, diligencie “N/A” en este campo.
A21: 20 | C21: Lugar de Consulta Digital (Ubicación) | D21: Texto | E21: Este campo solo aplica cuando se seleccione la categoría “Información” en el campo #5 - columna “E”. Para los demás tipos de activos, diligencie “N/A”. Indique la URL, sitio web o nombre del sistema de información donde se encuentra publicada la información. Importante: No se deben relacionar enlaces a plataformas internas (por ejemplo, OneDrive o SharePoint), ya que no son accesibles externamente ni garantizan disponibilidad permanente. Si la información está disponible únicamente en formato físico, diligencie “N/A”.
A22: 21 | C22: Fecha de Generación de la Información | D22: Fecha | E22: Este campo solo aplica cuando se seleccione la categoría “Información” en el campo #5 - columna “E”. Para los demás tipos de activos, diligencie “N/A”. Digite la fecha en que se crea la información.
A23: 22 | C23: Frecuencia de Actualización | D23: Lista | E23: Este campo solo aplica cuando se seleccione la categoría “Información” en el campo #5 - columna “E”. Para los demás tipos de activos, diligencie “N/A”. Seleccione de la lista desplegable la periodicidad o el intervalo de tiempo en que debe actualizarse la información, según su naturaleza y la normativa aplicable.
A24: 23 | C24: Nombre del Responsable de la Producción de la Información | D24: Texto | E24: Este campo solo aplica cuando se seleccione la categoría “Información” en el campo #5 - columna “E”. Para los demás tipos de activos, diligencie “N/A”. Digite el nombre del área, dependencia o unidad interna, o el nombre de la entidad externa que creó la información.
A25: 24 | C25: Nombre del Responsable de la Información | D25: Texto | E25: Digite el nombre del Área, Cargo, Rol, Dependencia o Proceso encargado dentro de la entidad de la custodia o control de la información, con el fin de permitir su acceso. Este campo es obligatorio; ningún activo de información puede quedar sin un responsable o custodio asignado.
A26: 25 | B26: ÍNDICE DE INFORMACIÓN CLASIFICADA Y RESERVADA (DECRETO 103 DE 2015) | C26: Objetivo Legitimo de la Excepción | D26: Texto | E26: Este campo solo aplica cuando se seleccione la categoría “Información” en el campo #5 - columna “E”. Para los demás tipos de activos, diligencie “N/A”. Indique la identificación de la excepción que, conforme a lo previsto en los artículos 18 o 19 de la Ley 1712 de 2014, ampara la calificación de la información como reservada o clasificada. Ejemplo: "Proteger la seguridad y defensa nacional, conforme a lo dispuesto en el artículo 19 de la Ley 1712 de 2014, literal b."
A27: 26 | C27: Fundamento contitucional o legal | D27: Texto | E27: Este campo solo aplica cuando se seleccione la categoría “Información” en el campo #5 - columna “E”. Para los demás tipos de activos, diligencie “N/A”. Ingrese la norma, artículo, inciso o párrafo que respalda la clasificación o reserva de la información. Ejemplo: Artículo 15 y 24 de la Constitución Política de Colombia. Art. 24: “El Estado tiene el deber de garantizar la defensa nacional.” Art. 15: derecho a la intimidad (en caso de que haya información personal también involucrada).
A28: 27 | C28: Fundamento juridico de la excepción | D28: Texto | E28: Este campo solo aplica cuando se seleccione la categoría “Información” en el campo #5 - columna “E”. Para los demás tipos de activos, diligencie “N/A”. Mencione la norma jurídica que fundamenta la clasificación o reserva de la información. Ejemplo: Artículo 19 de la Ley 1712 de 2014, literal b: “La información podrá ser clasificada como reservada cuando su divulgación implique una amenaza a la seguridad y defensa nacional.”
A29: 28 | C29: Excepción Total o Parcial | D29: Lista | E29: Seleccione dentro de las opciones de la lista desplegable si el activo de información puede ser entregado en su totalidad o tiene restricciones: Parcial: La información tiene algún tipo de reserva, pero puede entregarse o esta publicada mediante un proceso de anonimización. Total: La información no es entregable en su totalidad. N/A: Si el campo “Nombre o título de la categoría de información” (Columna E) es diferente de “Información”.
A30: 29 | C30: Fecha de la calificación | D30: Fecha | E30: Este campo solo aplica cuando se seleccione la categoría “Información” en el campo #5 - columna “E”. Para los demás tipos de activos, diligencie “N/A”. Registre la fecha en que la información fue calificada como reservada o clasificada.
A31: 30 | C31: Plazo de la Calificación o Reserva | D31: Texto | E31: Este campo solo aplica cuando se seleccione la categoría “Información” en el campo #5 - columna “E”. Para los demás tipos de activos, diligencie “N/A”. Indique el período de tiempo durante el cual la información estará clasificada o reservada.
A32: 31 | B32: VALORACIÓN DEL ACTIVO DE INFORMACIÓN (MSPI-ISO 27001) | C32: Confidencialidad | D32: Lista | E32: Seleccione una de las siguientes opciones según la naturaleza del activo de información y de acuerdo con lo diligenciado en el Índice de Información Clasificada y Reservada: Información Reservada: Aquella información o activos que perdiendo su confidencialidad puede conllevar a un impacto negativo alto de índole legal, operativo, pérdida de imagen o económica. Solo puede ser conocida por personal o procesos autorizados y corresponde a la determinada en el art. 19 de la ley 1712 de 2014. Información Clasificada: Aquella información o activosque perdiendo su confidencialidad puede conllevar a un impacto negativo medio de índole legal, operativo, pérdida de imagen o económica. Solo puede ser conocida por procesos autorizados y corresponde a la determinada en el art. 18 de la ley 1712 de 2014. Información Pública: Aquella información o activosque puede ser consultada libremente sin restricciones. No Clasificada: Activos de información que deben ser incluidos en el inventario y que no han sido clasificados, deben ser tratados como activos de información pública reservada.
A33: 32 | C33: Integridad | D33: Lista | E33: Seleccione una de las siguientes opciones según la naturaleza del activo de información: Alta:Aquella información o activosque perdiendo su exactitud y completitud puede conllevar a un impacto negativo alto de índole legal, operativo, pérdida de imagen o económica de la Entidad.. Media: Aquella información o activosque perdiendo su exactitud y completitud puede conllevar a un impacto negativo moderado de índole legal, operativo, pérdida de imagen a funcionarios o procesos de la Entidad. Baja: Aquella información o activosque perdiendo su exactitud y completitud puede conllevar a un impacto no significativo para la entidad o entes externos. No Clasificada: Activos de información que deben ser incluidos en el inventario y que no han sido clasificados, deben ser tratados como activos de información de Integridad Alta.
A34: 33 | C34: Disponibilidad | D34: lista | E34: Seleccione una de las siguientes opciones según la naturaleza del activo de información: Alta: La no disponibilidad del activo de información puede conllevar a un impacto negativo alto de índole legal, operativo, pérdida de imagen o económica de la Entidad. Media: La no disponibilidad del activo de información puede conllevar a un impacto negativo moderado de índole legal, operativo, pérdida de imagen o económica de la Entidad. Baja: La no disponibilidad del activo de información puede afectar la operación normal de uno o más procesos, pero no conlleva implicaciones legales, económicas o de pérdida de imagen. No Clasificada: Activos de información que deben ser incluidos en el inventario y que no han sido clasificados, deben ser tratados como activos de información de Disponibilidad Alta.
A35: 34 | C35: Nivel de Criticidad | D35: Calculado | E35: NO DILIGENCIAR: Es un cálculo automático que determina el valor general del activo, de acuerdo con la clasificación de la Información (Alta-Media-Baja) Para mas detalle consultar el Manual GTI-MN-02 Clasificación Activos de Información
A36: 35 | C36: Etiqueta | D36: Calculado | E36: NO DILIGENCIAR: Se calcula de acuerdo con el nivel de confidencialidad seleccionado en el campo 31 "Confidencialidad". Esta etiqueta debe usarse en los activos de información de tipo información para asegurar su acceso seguro. Para mas detalle consultar el Manual GTI-MN-02 Clasificación Activos de Información
A37: 36 | B37: PROTECCIÓN DE DATOS PERSONALES (BASES DE DATOS - LEY 1581 DE 2012) | C37: Contiene Datos Personales | D37: Lista | E37: Seleccione si el activo de información contiene o no, datos personales. Opciones: SI NO N/A: Si el campo “Nombre o título de la categoría de información” (Columna E) es diferente de “Información”.
A38: 37 | C38: Tipos de Datos Personales | D38: Lista | E38: Seleccione de las siguientes opciones opciones: Dato personal público: Toda información personal que es de conocimiento libre y abierto para el público en general. Son considerados datos públicos entre otros los datos relativos a: Estado Civil Profesión u Oficio, numero de cedula, y cualquier condición de ser servidores públicos, entre otros Dato personal privado: Toda información personal que tiene un conocimiento restringido, y en principio privado para el público en general. Ejemplo: Dirección de residencias y teléfono. Dato semiprivado: Es el dato que no tiene naturaleza intima, reservada, ni pública y cuyo conocimiento o divulgación puede interesar no sólo a su titular, si no a cierto sector o grupo de personas o a la sociedad en general. Datos sensibles: Se entiende por datos sensibles aquellos que afectan la intimidad del Titular o cuyo uso indebido puede generar su discriminación, tales como aquellos que revelen el origen racial o étnico, la orientación política, las convicciones religiosas o filosóficas, la pertenencia a sindicatos, organizaciones sociales, de derechos humanos o que promueva intereses de cualquier partido político o que garanticen los derechos y garantías de partidos políticos de oposición, así como los datos relativos a la salud, a la vida sexual, y los datos biométricos. Datos de niños, niñas o adolescentes: Son los datos personales de los niños, niñas y adolescentes, cuyo tratamiento está prohibido, salvo que se trate de datos de naturaleza pública. Ej. Registro civil. N/A: Si el campo “Nombre o título de la categoría de información” (Columna E) es diferente de “Información”.
A39: 38 | C39: Finalidad de la Recolección de los Datos Personales | D39: Texto | E39: Razón por la cual el dato personal es capturado y mantenido, este debe servir para garantizar la autorización de tratamiento por parte del dueño de los datos personales. Importante: Si el campo “Nombre o título de la categoría de información” (Columna E) es diferente de “Información”, diligencie “N/A”
A40: 39 | C40: Cuenta con las Autorizaciones Para el Tratamiento de Datos Personales | D40: Lista | E40: Seleccione si el activo de información contiene o no, datos personales. Opciones: SI NO N/A: Si el campo “Nombre o título de la categoría de información” (Columna E) es diferente de “Información”.
...

Sheet inventario activos
A1: FECHA DE ELABORACIÓN O ACTUALIZACIÓN (mes/Año):
A2: IDENTIFICADOR DEL ACTIVO DE INFORMACIÓN | C2: DEPENDENCIA | E2: DESCRIPCIÓN DEL ACTIVO DE INFORMACIÓN | F2: CLASIFICACIÓN DOCUMENTAL - CATEGORIA DE INFORMACIÓN PARA ACTIVOS DE TIPO "INFORMACIÓN" | H2: DESCRIPCIÓN DEL ACTIVO DE INFORMACIÓN Y TIPO DOCUMENTAL | K2: CONSERVACIÓN Y SOPORTE | P2: CUSTODIA DE LOS ACTIVOS DE INFORMACIÓN | V2: ÍNDICE DE INFORMACIÓN CLASIFICADA Y RESERVADA (DECRETO 103 DE 2015) | AB2: VALORACIÓN DEL ACTIVO DE INFORMACIÓN (MSPI-ISO 27001) | AM2: PROTECCIÓN DE DATOS PERSONALES (BASES DE DATOS - LEY 1581 DE 2012) | AQ2: DATOS ABIERTOS
A3: Identificador | B3: Codigo | C3: Dependencia | D3: Proceso | E3: Nombre o título de la categoría de información | F3: Serie Documental (TRD) | G3: Subserie Documental (TRD) | H3: Nombre o título de la información | I3: Descripción del Contenido la Categoria de Información | J3: Idioma | K3: Medio de Conservación y Soporte | L3: Formato | M3: Información Publicada o Disponible | N3: Interoperabilidad | O3: Estado | P3: Lugar de Consulta Física (Ubicación) | Q3: Lugar de Consulta Digital (Ubicación) | R3: Fecha de Generación de la Información | S3: Frecuencia de Actualización | T3: Nombre del Responsable de la Producción de la Información | U3: Nombre del Responsable de la Información | V3: Objetivo Legitimo de la Excepción | W3: Fundamento contitucional o legal | X3: Fundamento juridico de la excepción | Y3: Excepción Total o Parcial | Z3: Fecha de la calificación | AA3: Plazo de la Calificación o Reserva | AB3: Confidencialidad | AC3: Integridad | AD3: Disponibilidad | AE3: Nivel de Criticidad | AF3: V1 | AG3: V2 | AH3: V3 | AI3: E1 | AJ3: E2 | AK3: E3 | AL3: Etiqueta | AM3: Contiene Datos Personales | AN3: Tipo de Datos Personales | AO3: Finalidad de la Recolección de los Datos Personales | AP3: Cuenta con las Autorizaciones para el Tratamiento de Datos Personales | AQ3: ¿Considera que es un Conjunto de Datos Estrategicos?
A4: =IF(C4<>"",VLOOKUP(C4,Datos!$A$2:$B$30,2,0)&"-"&B4,"") | B4: =IF(C4<>"",1,"") | AE4: =IF(OR(AB4="",AC4="",AD4=""),"",IF(SUM(AF4,AG4,AH4)>=6,"ALTA",IF(AND(SUM(AF4,AG4,AH4)<6,SUM(AF4,AG4,AH4)>0),"MEDIA","BAJA"))) | AF4: =IF(AB4="INFORMACIÓN PÚBLICA RESERVADA",3,IF(AB4="INFORMACIÓN PÚBLICA CLASIFICADA",1,IF(AB4="INFORMACIÓN PÚBLICA",0,IF(AB4="NO CLASIFICADA",3,IF(AB4="N/A",-1))))) -> FALSE | AG4: =IF(AC4="ALTA",3,IF(AC4="MEDIA",1,IF(AC4="BAJA",0,IF(AC4="NO CLASIFICADA",3,IF(AB4="N/A",-1))))) -> FALSE | AH4: =IF(AD4="ALTA",3,IF(AD4="MEDIA",1,IF(AD4="BAJA",0,IF(AD4="NO CLASIFICADA",3,IF(AB4="N/A",-1))))) -> FALSE | AI4: =IF(OR($AB4=""),"",IF($AB4="INFORMACIÓN PÚBLICA RESERVADA","IPR",IF($AB4="INFORMACIÓN PÚBLICA CLASIFICADA","IPC",IF($AB4="INFORMACIÓN PÚBLICA","IPB",IF($AB4="NO CLASIFICADA","IPR"))))) | AJ4: =IF(OR($AC4=""),"",IF($AC4="ALTA","A",IF($AC4="MEDIA","M",IF($AC4="BAJA","B",IF($AC4="NO CLASIFICADA","A"))))) | AK4: =IF(OR($AD4=""),"",IF($AD4="ALTA","1",IF($AD4="MEDIA","2",IF($AD4="BAJA","3",IF($AD4="NO CLASIFICADA","1"))))) | AL4: =IF(OR(AB4=""),"",_xlfn.CONCAT(AI4))
A5: =IF(C5<>"",VLOOKUP(C5,Datos!$A$2:$B$30,2,0)&"-"&B5,"") | B5: =IF(AND(A4="",C5<>""),"LEB",IF(C5<>"",1+B4,"")) | AE5: =IF(OR(AB5="",AC5="",AD5=""),"",IF(SUM(AF5,AG5,AH5)>=6,"ALTA",IF(AND(SUM(AF5,AG5,AH5)<6,SUM(AF5,AG5,AH5)>0),"MEDIA","BAJA"))) | AF5: =IF(AB5="INFORMACIÓN PÚBLICA RESERVADA",3,IF(AB5="INFORMACIÓN PÚBLICA CLASIFICADA",1,IF(AB5="INFORMACIÓN PÚBLICA",0,IF(AB5="NO CLASIFICADA",3,IF(AB5="N/A",-1))))) -> FALSE | AG5: =IF(AC5="ALTA",3,IF(AC5="MEDIA",1,IF(AC5="BAJA",0,IF(AC5="NO CLASIFICADA",3,IF(AB5="N/A",-1))))) -> FALSE | AH5: =IF(AD5="ALTA",3,IF(AD5="MEDIA",1,IF(AD5="BAJA",0,IF(AD5="NO CLASIFICADA",3,IF(AB5="N/A",-1))))) -> FALSE | AI5: =IF(OR($AB5=""),"",IF($AB5="INFORMACIÓN PÚBLICA RESERVADA","IPR",IF($AB5="INFORMACIÓN PÚBLICA CLASIFICADA","IPC",IF($AB5="INFORMACIÓN PÚBLICA","IPB",IF($AB5="NO CLASIFICADA","IPR"))))) | AJ5: =IF(OR($AC5=""),"",IF($AC5="ALTA","A",IF($AC5="MEDIA","M",IF($AC5="BAJA","B",IF($AC5="NO CLASIFICADA","A"))))) | AK5: =IF(OR($AD5=""),"",IF($AD5="ALTA","1",IF($AD5="MEDIA","2",IF($AD5="BAJA","3",IF($AD5="NO CLASIFICADA","1"))))) | AL5: =IF(OR(AB5=""),"",_xlfn.CONCAT(AI5))
A6: =IF(C6<>"",VLOOKUP(C6,Datos!$A$2:$B$30,2,0)&"-"&B6,"") | B6: =IF(AND(A5="",C6<>""),"LEB",IF(C6<>"",1+B5,"")) | AE6: =IF(OR(AB6="",AC6="",AD6=""),"",IF(SUM(AF6,AG6,AH6)>=6,"ALTA",IF(AND(SUM(AF6,AG6,AH6)<6,SUM(AF6,AG6,AH6)>0),"MEDIA","BAJA"))) | AF6: =IF(AB6="INFORMACIÓN PÚBLICA RESERVADA",3,IF(AB6="INFORMACIÓN PÚBLICA CLASIFICADA",1,IF(AB6="INFORMACIÓN PÚBLICA",0,IF(AB6="NO CLASIFICADA",3,IF(AB6="N/A",-1))))) -> FALSE | AG6: =IF(AC6="ALTA",3,IF(AC6="MEDIA",1,IF(AC6="BAJA",0,IF(AC6="NO CLASIFICADA",3,IF(AB6="N/A",-1))))) -> FALSE | AH6: =IF(AD6="ALTA",3,IF(AD6="MEDIA",1,IF(AD6="BAJA",0,IF(AD6="NO CLASIFICADA",3,IF(AB6="N/A",-1))))) -> FALSE | AI6: =IF(OR($AB6=""),"",IF($AB6="INFORMACIÓN PÚBLICA RESERVADA","IPR",IF($AB6="INFORMACIÓN PÚBLICA CLASIFICADA","IPC",IF($AB6="INFORMACIÓN PÚBLICA","IPB",IF($AB6="NO CLASIFICADA","IPR"))))) | AJ6: =IF(OR($AC6=""),"",IF($AC6="ALTA","A",IF($AC6="MEDIA","M",IF($AC6="BAJA","B",IF($AC6="NO CLASIFICADA","A"))))) | AK6: =IF(OR($AD6=""),"",IF($AD6="ALTA","1",IF($AD6="MEDIA","2",IF($AD6="BAJA","3",IF($AD6="NO CLASIFICADA","1"))))) | AL6: =IF(OR(AB6=""),"",_xlfn.CONCAT(AI6))
A7: =IF(C7<>"",VLOOKUP(C7,Datos!$A$2:$B$30,2,0)&"-"&B7,"") | B7: =IF(AND(A6="",C7<>""),"LEB",IF(C7<>"",1+B6,"")) | AE7: =IF(OR(AB7="",AC7="",AD7=""),"",IF(SUM(AF7,AG7,AH7)>=6,"ALTA",IF(AND(SUM(AF7,AG7,AH7)<6,SUM(AF7,AG7,AH7)>0),"MEDIA","BAJA"))) | AF7: =IF(AB7="INFORMACIÓN PÚBLICA RESERVADA",3,IF(AB7="INFORMACIÓN PÚBLICA CLASIFICADA",1,IF(AB7="INFORMACIÓN PÚBLICA",0,IF(AB7="NO CLASIFICADA",3,IF(AB7="N/A",-1))))) -> FALSE | AG7: =IF(AC7="ALTA",3,IF(AC7="MEDIA",1,IF(AC7="BAJA",0,IF(AC7="NO CLASIFICADA",3,IF(AB7="N/A",-1))))) -> FALSE | AH7: =IF(AD7="ALTA",3,IF(AD7="MEDIA",1,IF(AD7="BAJA",0,IF(AD7="NO CLASIFICADA",3,IF(AB7="N/A",-1))))) -> FALSE | AI7: =IF(OR($AB7=""),"",IF($AB7="INFORMACIÓN PÚBLICA RESERVADA","IPR",IF($AB7="INFORMACIÓN PÚBLICA CLASIFICADA","IPC",IF($AB7="INFORMACIÓN PÚBLICA","IPB",IF($AB7="NO CLASIFICADA","IPR"))))) | AJ7: =IF(OR($AC7=""),"",IF($AC7="ALTA","A",IF($AC7="MEDIA","M",IF($AC7="BAJA","B",IF($AC7="NO CLASIFICADA","A"))))) | AK7: =IF(OR($AD7=""),"",IF($AD7="ALTA","1",IF($AD7="MEDIA","2",IF($AD7="BAJA","3",IF($AD7="NO CLASIFICADA","1"))))) | AL7: =IF(OR(AB7=""),"",_xlfn.CONCAT(AI7))
A8: =IF(C8<>"",VLOOKUP(C8,Datos!$A$2:$B$30,2,0)&"-"&B8,"") | B8: =IF(AND(A7="",C8<>""),"LEB",IF(C8<>"",1+B7,"")) | AE8: =IF(OR(AB8="",AC8="",AD8=""),"",IF(SUM(AF8,AG8,AH8)>=6,"ALTA",IF(AND(SUM(AF8,AG8,AH8)<6,SUM(AF8,AG8,AH8)>0),"MEDIA","BAJA"))) | AF8: =IF(AB8="INFORMACIÓN PÚBLICA RESERVADA",3,IF(AB8="INFORMACIÓN PÚBLICA CLASIFICADA",1,IF(AB8="INFORMACIÓN PÚBLICA",0,IF(AB8="NO CLASIFICADA",3,IF(AB8="N/A",-1))))) -> FALSE | AG8: =IF(AC8="ALTA",3,IF(AC8="MEDIA",1,IF(AC8="BAJA",0,IF(AC8="NO CLASIFICADA",3,IF(AB8="N/A",-1))))) -> FALSE | AH8: =IF(AD8="ALTA",3,IF(AD8="MEDIA",1,IF(AD8="BAJA",0,IF(AD8="NO CLASIFICADA",3,IF(AB8="N/A",-1))))) -> FALSE | AI8: =IF(OR($AB8=""),"",IF($AB8="INFORMACIÓN PÚBLICA RESERVADA","IPR",IF($AB8="INFORMACIÓN PÚBLICA CLASIFICADA","IPC",IF($AB8="INFORMACIÓN PÚBLICA","IPB",IF($AB8="NO CLASIFICADA","IPR"))))) | AJ8: =IF(OR($AC8=""),"",IF($AC8="ALTA","A",IF($AC8="MEDIA","M",IF($AC8="BAJA","B",IF($AC8="NO CLASIFICADA","A"))))) | AK8: =IF(OR($AD8=""),"",IF($AD8="ALTA","1",IF($AD8="MEDIA","2",IF($AD8="BAJA","3",IF($AD8="NO CLASIFICADA","1"))))) | AL8: =IF(OR(AB8=""),"",_xlfn.CONCAT(AI8))
A9: =IF(C9<>"",VLOOKUP(C9,Datos!$A$2:$B$30,2,0)&"-"&B9,"") | B9: =IF(AND(A8="",C9<>""),"LEB",IF(C9<>"",1+B8,"")) | AE9: =IF(OR(AB9="",AC9="",AD9=""),"",IF(SUM(AF9,AG9,AH9)>=6,"ALTA",IF(AND(SUM(AF9,AG9,AH9)<6,SUM(AF9,AG9,AH9)>0),"MEDIA","BAJA"))) | AF9: =IF(AB9="INFORMACIÓN PÚBLICA RESERVADA",3,IF(AB9="INFORMACIÓN PÚBLICA CLASIFICADA",1,IF(AB9="INFORMACIÓN PÚBLICA",0,IF(AB9="NO CLASIFICADA",3,IF(AB9="N/A",-1))))) -> FALSE | AG9: =IF(AC9="ALTA",3,IF(AC9="MEDIA",1,IF(AC9="BAJA",0,IF(AC9="NO CLASIFICADA",3,IF(AB9="N/A",-1))))) -> FALSE | AH9: =IF(AD9="ALTA",3,IF(AD9="MEDIA",1,IF(AD9="BAJA",0,IF(AD9="NO CLASIFICADA",3,IF(AB9="N/A",-1))))) -> FALSE | AI9: =IF(OR($AB9=""),"",IF($AB9="INFORMACIÓN PÚBLICA RESERVADA","IPR",IF($AB9="INFORMACIÓN PÚBLICA CLASIFICADA","IPC",IF($AB9="INFORMACIÓN PÚBLICA","IPB",IF($AB9="NO CLASIFICADA","IPR"))))) | AJ9: =IF(OR($AC9=""),"",IF($AC9="ALTA","A",IF($AC9="MEDIA","M",IF($AC9="BAJA","B",IF($AC9="NO CLASIFICADA","A"))))) | AK9: =IF(OR($AD9=""),"",IF($AD9="ALTA","1",IF($AD9="MEDIA","2",IF($AD9="BAJA","3",IF($AD9="NO CLASIFICADA","1"))))) | AL9: =IF(OR(AB9=""),"",_xlfn.CONCAT(AI9))
A10: =IF(C10<>"",VLOOKUP(C10,Datos!$A$2:$B$30,2,0)&"-"&B10,"") | B10: =IF(AND(A9="",C10<>""),"LEB",IF(C10<>"",1+B9,"")) | AE10: =IF(OR(AB10="",AC10="",AD10=""),"",IF(SUM(AF10,AG10,AH10)>=6,"ALTA",IF(AND(SUM(AF10,AG10,AH10)<6,SUM(AF10,AG10,AH10)>0),"MEDIA","BAJA"))) | AF10: =IF(AB10="INFORMACIÓN PÚBLICA RESERVADA",3,IF(AB10="INFORMACIÓN PÚBLICA CLASIFICADA",1,IF(AB10="INFORMACIÓN PÚBLICA",0,IF(AB10="NO CLASIFICADA",3,IF(AB10="N/A",-1))))) -> FALSE | AG10: =IF(AC10="ALTA",3,IF(AC10="MEDIA",1,IF(AC10="BAJA",0,IF(AC10="NO CLASIFICADA",3,IF(AB10="N/A",-1))))) -> FALSE | AH10: =IF(AD10="ALTA",3,IF(AD10="MEDIA",1,IF(AD10="BAJA",0,IF(AD10="NO CLASIFICADA",3,IF(AB10="N/A",-1))))) -> FALSE | AI10: =IF(OR($AB10=""),"",IF($AB10="INFORMACIÓN PÚBLICA RESERVADA","IPR",IF($AB10="INFORMACIÓN PÚBLICA CLASIFICADA","IPC",IF($AB10="INFORMACIÓN PÚBLICA","IPB",IF($AB10="NO CLASIFICADA","IPR"))))) | AJ10: =IF(OR($AC10=""),"",IF($AC10="ALTA","A",IF($AC10="MEDIA","M",IF($AC10="BAJA","B",IF($AC10="NO CLASIFICADA","A"))))) | AK10: =IF(OR($AD10=""),"",IF($AD10="ALTA","1",IF($AD10="MEDIA","2",IF($AD10="BAJA","3",IF($AD10="NO CLASIFICADA","1"))))) | AL10: =IF(OR(AB10=""),"",_xlfn.CONCAT(AI10))
A11: =IF(C11<>"",VLOOKUP(C11,Datos!$A$2:$B$30,2,0)&"-"&B11,"") | B11: =IF(AND(A10="",C11<>""),"LEB",IF(C11<>"",1+B10,"")) | AE11: =IF(OR(AB11="",AC11="",AD11=""),"",IF(SUM(AF11,AG11,AH11)>=6,"ALTA",IF(AND(SUM(AF11,AG11,AH11)<6,SUM(AF11,AG11,AH11)>0),"MEDIA","BAJA"))) | AF11: =IF(AB11="INFORMACIÓN PÚBLICA RESERVADA",3,IF(AB11="INFORMACIÓN PÚBLICA CLASIFICADA",1,IF(AB11="INFORMACIÓN PÚBLICA",0,IF(AB11="NO CLASIFICADA",3,IF(AB11="N/A",-1))))) -> FALSE | AG11: =IF(AC11="ALTA",3,IF(AC11="MEDIA",1,IF(AC11="BAJA",0,IF(AC11="NO CLASIFICADA",3,IF(AB11="N/A",-1))))) -> FALSE | AH11: =IF(AD11="ALTA",3,IF(AD11="MEDIA",1,IF(AD11="BAJA",0,IF(AD11="NO CLASIFICADA",3,IF(AB11="N/A",-1))))) -> FALSE | AI11: =IF(OR($AB11=""),"",IF($AB11="INFORMACIÓN PÚBLICA RESERVADA","IPR",IF($AB11="INFORMACIÓN PÚBLICA CLASIFICADA","IPC",IF($AB11="INFORMACIÓN PÚBLICA","IPB",IF($AB11="NO CLASIFICADA","IPR"))))) | AJ11: =IF(OR($AC11=""),"",IF($AC11="ALTA","A",IF($AC11="MEDIA","M",IF($AC11="BAJA","B",IF($AC11="NO CLASIFICADA","A"))))) | AK11: =IF(OR($AD11=""),"",IF($AD11="ALTA","1",IF($AD11="MEDIA","2",IF($AD11="BAJA","3",IF($AD11="NO CLASIFICADA","1"))))) | AL11: =IF(OR(AB11=""),"",_xlfn.CONCAT(AI11))
A12: =IF(C12<>"",VLOOKUP(C12,Datos!$A$2:$B$30,2,0)&"-"&B12,"") | B12: =IF(AND(A11="",C12<>""),"LEB",IF(C12<>"",1+B11,"")) | AE12: =IF(OR(AB12="",AC12="",AD12=""),"",IF(SUM(AF12,AG12,AH12)>=6,"ALTA",IF(AND(SUM(AF12,AG12,AH12)<6,SUM(AF12,AG12,AH12)>0),"MEDIA","BAJA"))) | AF12: =IF(AB12="INFORMACIÓN PÚBLICA RESERVADA",3,IF(AB12="INFORMACIÓN PÚBLICA CLASIFICADA",1,IF(AB12="INFORMACIÓN PÚBLICA",0,IF(AB12="NO CLASIFICADA",3,IF(AB12="N/A",-1))))) -> FALSE | AG12: =IF(AC12="ALTA",3,IF(AC12="MEDIA",1,IF(AC12="BAJA",0,IF(AC12="NO CLASIFICADA",3,IF(AB12="N/A",-1))))) -> FALSE | AH12: =IF(AD12="ALTA",3,IF(AD12="MEDIA",1,IF(AD12="BAJA",0,IF(AD12="NO CLASIFICADA",3,IF(AB12="N/A",-1))))) -> FALSE | AI12: =IF(OR($AB12=""),"",IF($AB12="INFORMACIÓN PÚBLICA RESERVADA","IPR",IF($AB12="INFORMACIÓN PÚBLICA CLASIFICADA","IPC",IF($AB12="INFORMACIÓN PÚBLICA","IPB",IF($AB12="NO CLASIFICADA","IPR"))))) | AJ12: =IF(OR($AC12=""),"",IF($AC12="ALTA","A",IF($AC12="MEDIA","M",IF($AC12="BAJA","B",IF($AC12="NO CLASIFICADA","A"))))) | AK12: =IF(OR($AD12=""),"",IF($AD12="ALTA","1",IF($AD12="MEDIA","2",IF($AD12="BAJA","3",IF($AD12="NO CLASIFICADA","1"))))) | AL12: =IF(OR(AB12=""),"",_xlfn.CONCAT(AI12))
A13: =IF(C13<>"",VLOOKUP(C13,Datos!$A$2:$B$30,2,0)&"-"&B13,"") | B13: =IF(AND(A12="",C13<>""),"LEB",IF(C13<>"",1+B12,"")) | AE13: =IF(OR(AB13="",AC13="",AD13=""),"",IF(SUM(AF13,AG13,AH13)>=6,"ALTA",IF(AND(SUM(AF13,AG13,AH13)<6,SUM(AF13,AG13,AH13)>0),"MEDIA","BAJA"))) | AF13: =IF(AB13="INFORMACIÓN PÚBLICA RESERVADA",3,IF(AB13="INFORMACIÓN PÚBLICA CLASIFICADA",1,IF(AB13="INFORMACIÓN PÚBLICA",0,IF(AB13="NO CLASIFICADA",3,IF(AB13="N/A",-1))))) -> FALSE | AG13: =IF(AC13="ALTA",3,IF(AC13="MEDIA",1,IF(AC13="BAJA",0,IF(AC13="NO CLASIFICADA",3,IF(AB13="N/A",-1))))) -> FALSE | AH13: =IF(AD13="ALTA",3,IF(AD13="MEDIA",1,IF(AD13="BAJA",0,IF(AD13="NO CLASIFICADA",3,IF(AB13="N/A",-1))))) -> FALSE | AI13: =IF(OR($AB13=""),"",IF($AB13="INFORMACIÓN PÚBLICA RESERVADA","IPR",IF($AB13="INFORMACIÓN PÚBLICA CLASIFICADA","IPC",IF($AB13="INFORMACIÓN PÚBLICA","IPB",IF($AB13="NO CLASIFICADA","IPR"))))) | AJ13: =IF(OR($AC13=""),"",IF($AC13="ALTA","A",IF($AC13="MEDIA","M",IF($AC13="BAJA","B",IF($AC13="NO CLASIFICADA","A"))))) | AK13: =IF(OR($AD13=""),"",IF($AD13="ALTA","1",IF($AD13="MEDIA","2",IF($AD13="BAJA","3",IF($AD13="NO CLASIFICADA","1"))))) | AL13: =IF(OR(AB13=""),"",_xlfn.CONCAT(AI13))
A14: =IF(C14<>"",VLOOKUP(C14,Datos!$A$2:$B$30,2,0)&"-"&B14,"") | B14: =IF(AND(A13="",C14<>""),"LEB",IF(C14<>"",1+B13,"")) | AE14: =IF(OR(AB14="",AC14="",AD14=""),"",IF(SUM(AF14,AG14,AH14)>=6,"ALTA",IF(AND(SUM(AF14,AG14,AH14)<6,SUM(AF14,AG14,AH14)>0),"MEDIA","BAJA"))) | AF14: =IF(AB14="INFORMACIÓN PÚBLICA RESERVADA",3,IF(AB14="INFORMACIÓN PÚBLICA CLASIFICADA",1,IF(AB14="INFORMACIÓN PÚBLICA",0,IF(AB14="NO CLASIFICADA",3,IF(AB14="N/A",-1))))) -> FALSE | AG14: =IF(AC14="ALTA",3,IF(AC14="MEDIA",1,IF(AC14="BAJA",0,IF(AC14="NO CLASIFICADA",3,IF(AB14="N/A",-1))))) -> FALSE | AH14: =IF(AD14="ALTA",3,IF(AD14="MEDIA",1,IF(AD14="BAJA",0,IF(AD14="NO CLASIFICADA",3,IF(AB14="N/A",-1))))) -> FALSE | AI14: =IF(OR($AB14=""),"",IF($AB14="INFORMACIÓN PÚBLICA RESERVADA","IPR",IF($AB14="INFORMACIÓN PÚBLICA CLASIFICADA","IPC",IF($AB14="INFORMACIÓN PÚBLICA","IPB",IF($AB14="NO CLASIFICADA","IPR"))))) | AJ14: =IF(OR($AC14=""),"",IF($AC14="ALTA","A",IF($AC14="MEDIA","M",IF($AC14="BAJA","B",IF($AC14="NO CLASIFICADA","A"))))) | AK14: =IF(OR($AD14=""),"",IF($AD14="ALTA","1",IF($AD14="MEDIA","2",IF($AD14="BAJA","3",IF($AD14="NO CLASIFICADA","1"))))) | AL14: =IF(OR(AB14=""),"",_xlfn.CONCAT(AI14))
A15: =IF(C15<>"",VLOOKUP(C15,Datos!$A$2:$B$30,2,0)&"-"&B15,"") | B15: =IF(AND(A14="",C15<>""),"LEB",IF(C15<>"",1+B14,"")) | AE15: =IF(OR(AB15="",AC15="",AD15=""),"",IF(SUM(AF15,AG15,AH15)>=6,"ALTA",IF(AND(SUM(AF15,AG15,AH15)<6,SUM(AF15,AG15,AH15)>0),"MEDIA","BAJA"))) | AF15: =IF(AB15="INFORMACIÓN PÚBLICA RESERVADA",3,IF(AB15="INFORMACIÓN PÚBLICA CLASIFICADA",1,IF(AB15="INFORMACIÓN PÚBLICA",0,IF(AB15="NO CLASIFICADA",3,IF(AB15="N/A",-1))))) -> FALSE | AG15: =IF(AC15="ALTA",3,IF(AC15="MEDIA",1,IF(AC15="BAJA",0,IF(AC15="NO CLASIFICADA",3,IF(AB15="N/A",-1))))) -> FALSE | AH15: =IF(AD15="ALTA",3,IF(AD15="MEDIA",1,IF(AD15="BAJA",0,IF(AD15="NO CLASIFICADA",3,IF(AB15="N/A",-1))))) -> FALSE | AI15: =IF(OR($AB15=""),"",IF($AB15="INFORMACIÓN PÚBLICA RESERVADA","IPR",IF($AB15="INFORMACIÓN PÚBLICA CLASIFICADA","IPC",IF($AB15="INFORMACIÓN PÚBLICA","IPB",IF($AB15="NO CLASIFICADA","IPR"))))) | AJ15: =IF(OR($AC15=""),"",IF($AC15="ALTA","A",IF($AC15="MEDIA","M",IF($AC15="BAJA","B",IF($AC15="NO CLASIFICADA","A"))))) | AK15: =IF(OR($AD15=""),"",IF($AD15="ALTA","1",IF($AD15="MEDIA","2",IF($AD15="BAJA","3",IF($AD15="NO CLASIFICADA","1"))))) | AL15: =IF(OR(AB15=""),"",_xlfn.CONCAT(AI15))
A16: =IF(C16<>"",VLOOKUP(C16,Datos!$A$2:$B$30,2,0)&"-"&B16,"") | B16: =IF(AND(A15="",C16<>""),"LEB",IF(C16<>"",1+B15,"")) | AE16: =IF(OR(AB16="",AC16="",AD16=""),"",IF(SUM(AF16,AG16,AH16)>=6,"ALTA",IF(AND(SUM(AF16,AG16,AH16)<6,SUM(AF16,AG16,AH16)>0),"MEDIA","BAJA"))) | AF16: =IF(AB16="INFORMACIÓN PÚBLICA RESERVADA",3,IF(AB16="INFORMACIÓN PÚBLICA CLASIFICADA",1,IF(AB16="INFORMACIÓN PÚBLICA",0,IF(AB16="NO CLASIFICADA",3,IF(AB16="N/A",-1))))) -> FALSE | AG16: =IF(AC16="ALTA",3,IF(AC16="MEDIA",1,IF(AC16="BAJA",0,IF(AC16="NO CLASIFICADA",3,IF(AB16="N/A",-1))))) -> FALSE | AH16: =IF(AD16="ALTA",3,IF(AD16="MEDIA",1,IF(AD16="BAJA",0,IF(AD16="NO CLASIFICADA",3,IF(AB16="N/A",-1))))) -> FALSE | AI16: =IF(OR($AB16=""),"",IF($AB16="INFORMACIÓN PÚBLICA RESERVADA","IPR",IF($AB16="INFORMACIÓN PÚBLICA CLASIFICADA","IPC",IF($AB16="INFORMACIÓN PÚBLICA","IPB",IF($AB16="NO CLASIFICADA","IPR"))))) | AJ16: =IF(OR($AC16=""),"",IF($AC16="ALTA","A",IF($AC16="MEDIA","M",IF($AC16="BAJA","B",IF($AC16="NO CLASIFICADA","A"))))) | AK16: =IF(OR($AD16=""),"",IF($AD16="ALTA","1",IF($AD16="MEDIA","2",IF($AD16="BAJA","3",IF($AD16="NO CLASIFICADA","1"))))) | AL16: =IF(OR(AB16=""),"",_xlfn.CONCAT(AI16))
... A74: =IF(C74<>"",VLOOKUP(C74,Datos!$A$2:$B$30,2,0)&"-"&B74,"") | B74: =IF(AND(A73="",C74<>""),"LEB",IF(C74<>"",1+B73,"")) | AE74: =IF(OR(AB74="",AC74="",AD74=""),"",IF(SUM(AF74,AG74,AH74)>=6,"ALTA",IF(AND(SUM(AF74,AG74,AH74)<6,SUM(AF74,AG74,AH74)>0),"MEDIA","BAJA"))) | AF74: =IF(AB74="INFORMACIÓN PÚBLICA RESERVADA",3,IF(AB74="INFORMACIÓN PÚBLICA CLASIFICADA",1,IF(AB74="INFORMACIÓN PÚBLICA",0,IF(AB74="NO CLASIFICADA",3,IF(AB74="N/A",-1))))) -> FALSE | AG74: =IF(AC74="ALTA",3,IF(AC74="MEDIA",1,IF(AC74="BAJA",0,IF(AC74="NO CLASIFICADA",3,IF(AB74="N/A",-1))))) -> FALSE | AH74: =IF(AD74="ALTA",3,IF(AD74="MEDIA",1,IF(AD74="BAJA",0,IF(AD74="NO CLASIFICADA",3,IF(AB74="N/A",-1))))) -> FALSE | AI74: =IF(OR($AB74=""),"",IF($AB74="INFORMACIÓN PÚBLICA RESERVADA","IPR",IF($AB74="INFORMACIÓN PÚBLICA CLASIFICADA","IPC",IF($AB74="INFORMACIÓN PÚBLICA","IPB",IF($AB74="NO CLASIFICADA","IPR"))))) | AJ74: =IF(OR($AC74=""),"",IF($AC74="ALTA","A",IF($AC74="MEDIA","M",IF($AC74="BAJA","B",IF($AC74="NO CLASIFICADA","A"))))) | AK74: =IF(OR($AD74=""),"",IF($AD74="ALTA","1",IF($AD74="MEDIA","2",IF($AD74="BAJA","3",IF($AD74="NO CLASIFICADA","1"))))) | AL74: =IF(OR(AB74=""),"",_xlfn.CONCAT(AI74))

Sheet caracterizacion documental
A1: TIPO DE ACTIVO (Cuando se requiera hacer los reportes de la caracterización documental se deberá hacer el filtro de la categoría "Información") | B1: FECHA DE ELABORACIÓN O ACTUALIZACIÓN (mes/Año):
B2: DEPENDENCIA | C2: DESCRIPCIÓN DEL ACTIVO DE INFORMACIÓN | E2: CLASIFICACIÓN DOCUMENTAL - CATEGORIA DE INFORMACIÓN PARA ACTIVOS DE TIPO "INFORMACIÓN" | I2: DESCRIPCIÓN DEL ACTIVO DE INFORMACIÓN Y TIPO DOCUMENTAL | L2: CONSERVACIÓN Y SOPORTE | O2: CUSTODIA DE LOS ACTIVOS DE INFORMACIÓN | R2: VALORACIÓN DEL ACTIVO DE INFORMACIÓN (MSPI-ISO 27001)
B3: Dependencia | C3: Norma o Función (cuando aplique) | D3: Código del Procedimiento o Formato | E3: Tipo de origen | F3: Serie Documental (TRD) | G3: Subserie Documental (TRD) | H3: Descripción de la categoría de información | I3: Nombre o título de la información | J3: Descripción del Contenido la Categoria de Información | K3: Idioma | L3: Medio de Conservación y Soporte | M3: Formato | N3: Estado | O3: Lugar de Consulta Física (Ubicación) | P3: Lugar de Consulta Digital (Ubicación) | Q3: Nombre del Responsable de la Información | R3: Confidencialidad
A4: =+'inventario activos'!E4 -> 0 | B4: =+'inventario activos'!C4 -> 0 | F4: =+'inventario activos'!F4 -> 0 | G4: =+'inventario activos'!G4 -> 0 | I4: =+'inventario activos'!H4 -> 0 | J4: =+'inventario activos'!I4 -> 0 | K4: =+'inventario activos'!J4 -> 0 | L4: =+'inventario activos'!K4 -> 0 | M4: =+'inventario activos'!L4 -> 0 | N4: =+'inventario activos'!O4 -> 0 | O4: =+'inventario activos'!P4 -> 0 | P4: =+'inventario activos'!Q4 -> 0 | Q4: =+'inventario activos'!U4 -> 0 | R4: =+'inventario activos'!AB4 -> 0
A5: =+'inventario activos'!E5 -> 0 | B5: =+'inventario activos'!C5 -> 0 | F5: =+'inventario activos'!F5 -> 0 | G5: =+'inventario activos'!G5 -> 0 | I5: =+'inventario activos'!H5 -> 0 | J5: =+'inventario activos'!I5 -> 0 | K5: =+'inventario activos'!J5 -> 0 | L5: =+'inventario activos'!K5 -> 0 | M5: =+'inventario activos'!L5 -> 0 | N5: =+'inventario activos'!O5 -> 0 | O5: =+'inventario activos'!P5 -> 0 | P5: =+'inventario activos'!Q5 -> 0 | Q5: =+'inventario activos'!U5 -> 0 | R5: =+'inventario activos'!AB5 -> 0
A6: =+'inventario activos'!E6 -> 0 | B6: =+'inventario activos'!C6 -> 0 | F6: =+'inventario activos'!F6 -> 0 | G6: =+'inventario activos'!G6 -> 0 | I6: =+'inventario activos'!H6 -> 0 | J6: =+'inventario activos'!I6 -> 0 | K6: =+'inventario activos'!J6 -> 0 | L6: =+'inventario activos'!K6 -> 0 | M6: =+'inventario activos'!L6 -> 0 | N6: =+'inventario activos'!O6 -> 0 | O6: =+'inventario activos'!P6 -> 0 | P6: =+'inventario activos'!Q6 -> 0 | Q6: =+'inventario activos'!U6 -> 0 | R6: =+'inventario activos'!AB6 -> 0
A7: =+'inventario activos'!E7 -> 0 | B7: =+'inventario activos'!C7 -> 0 | F7: =+'inventario activos'!F7 -> 0 | G7: =+'inventario activos'!G7 -> 0 | I7: =+'inventario activos'!H7 -> 0 | J7: =+'inventario activos'!I7 -> 0 | K7: =+'inventario activos'!J7 -> 0 | L7: =+'inventario activos'!K7 -> 0 | M7: =+'inventario activos'!L7 -> 0 | N7: =+'inventario activos'!O7 -> 0 | O7: =+'inventario activos'!P7 -> 0 | P7: =+'inventario activos'!Q7 -> 0 | Q7: =+'inventario activos'!U7 -> 0 | R7: =+'inventario activos'!AB7 -> 0
A8: =+'inventario activos'!E8 -> 0 | B8: =+'inventario activos'!C8 -> 0 | F8: =+'inventario activos'!F8 -> 0 | G8: =+'inventario activos'!G8 -> 0 | I8: =+'inventario activos'!H8 -> 0 | J8: =+'inventario activos'!I8 -> 0 | K8: =+'inventario activos'!J8 -> 0 | L8: =+'inventario activos'!K8 -> 0 | M8: =+'inventario activos'!L8 -> 0 | N8: =+'inventario activos'!O8 -> 0 | O8: =+'inventario activos'!P8 -> 0 | P8: =+'inventario activos'!Q8 -> 0 | Q8: =+'inventario activos'!U8 -> 0 | R8: =+'inventario activos'!AB8 -> 0
A9: =+'inventario activos'!E9 -> 0 | B9: =+'inventario activos'!C9 -> 0 | F9: =+'inventario activos'!F9 -> 0 | G9: =+'inventario activos'!G9 -> 0 | I9: =+'inventario activos'!H9 -> 0 | J9: =+'inventario activos'!I9 -> 0 | K9: =+'inventario activos'!J9 -> 0 | L9: =+'inventario activos'!K9 -> 0 | M9: =+'inventario activos'!L9 -> 0 | N9: =+'inventario activos'!O9 -> 0 | O9: =+'inventario activos'!P9 -> 0 | P9: =+'inventario activos'!Q9 -> 0 | Q9: =+'inventario activos'!U9 -> 0 | R9: =+'inventario activos'!AB9 -> 0
A10: =+'inventario activos'!E10 -> 0 | B10: =+'inventario activos'!C10 -> 0 | F10: =+'inventario activos'!F10 -> 0 | G10: =+'inventario activos'!G10 -> 0 | I10: =+'inventario activos'!H10 -> 0 | J10: =+'inventario activos'!I10 -> 0 | K10: =+'inventario activos'!J10 -> 0 | L10: =+'inventario activos'!K10 -> 0 | M10: =+'inventario activos'!L10 -> 0 | N10: =+'inventario activos'!O10 -> 0 | O10: =+'inventario activos'!P10 -> 0 | P10: =+'inventario activos'!Q10 -> 0 | Q10: =+'inventario activos'!U10 -> 0 | R10: =+'inventario activos'!AB10 -> 0
A11: =+'inventario activos'!E11 -> 0 | B11: =+'inventario activos'!C11 -> 0 | F11: =+'inventario activos'!F11 -> 0 | G11: =+'inventario activos'!G11 -> 0 | I11: =+'inventario activos'!H11 -> 0 | J11: =+'inventario activos'!I11 -> 0 | K11: =+'inventario activos'!J11 -> 0 | L11: =+'inventario activos'!K11 -> 0 | M11: =+'inventario activos'!L11 -> 0 | N11: =+'inventario activos'!O11 -> 0 | O11: =+'inventario activos'!P11 -> 0 | P11: =+'inventario activos'!Q11 -> 0 | Q11: =+'inventario activos'!U11 -> 0 | R11: =+'inventario activos'!AB11 -> 0
A12: =+'inventario activos'!E12 -> 0 | B12: =+'inventario activos'!C12 -> 0 | F12: =+'inventario activos'!F12 -> 0 | G12: =+'inventario activos'!G12 -> 0 | I12: =+'inventario activos'!H12 -> 0 | J12: =+'inventario activos'!I12 -> 0 | K12: =+'inventario activos'!J12 -> 0 | L12: =+'inventario activos'!K12 -> 0 | M12: =+'inventario activos'!L12 -> 0 | N12: =+'inventario activos'!O12 -> 0 | O12: =+'inventario activos'!P12 -> 0 | P12: =+'inventario activos'!Q12 -> 0 | Q12: =+'inventario activos'!U12 -> 0 | R12: =+'inventario activos'!AB12 -> 0
A13: =+'inventario activos'!E13 -> 0 | B13: =+'inventario activos'!C13 -> 0 | F13: =+'inventario activos'!F13 -> 0 | G13: =+'inventario activos'!G13 -> 0 | I13: =+'inventario activos'!H13 -> 0 | J13: =+'inventario activos'!I13 -> 0 | K13: =+'inventario activos'!J13 -> 0 | L13: =+'inventario activos'!K13 -> 0 | M13: =+'inventario activos'!L13 -> 0 | N13: =+'inventario activos'!O13 -> 0 | O13: =+'inventario activos'!P13 -> 0 | P13: =+'inventario activos'!Q13 -> 0 | Q13: =+'inventario activos'!U13 -> 0 | R13: =+'inventario activos'!AB13 -> 0
A14: =+'inventario activos'!E14 -> 0 | B14: =+'inventario activos'!C14 -> 0 | F14: =+'inventario activos'!F14 -> 0 | G14: =+'inventario activos'!G14 -> 0 | I14: =+'inventario activos'!H14 -> 0 | J14: =+'inventario activos'!I14 -> 0 | K14: =+'inventario activos'!J14 -> 0 | L14: =+'inventario activos'!K14 -> 0 | M14: =+'inventario activos'!L14 -> 0 | N14: =+'inventario activos'!O14 -> 0 | O14: =+'inventario activos'!P14 -> 0 | P14: =+'inventario activos'!Q14 -> 0 | Q14: =+'inventario activos'!U14 -> 0 | R14: =+'inventario activos'!AB14 -> 0
A15: =+'inventario activos'!E15 -> 0 | B15: =+'inventario activos'!C15 -> 0 | F15: =+'inventario activos'!F15 -> 0 | G15: =+'inventario activos'!G15 -> 0 | I15: =+'inventario activos'!H15 -> 0 | J15: =+'inventario activos'!I15 -> 0 | K15: =+'inventario activos'!J15 -> 0 | L15: =+'inventario activos'!K15 -> 0 | M15: =+'inventario activos'!L15 -> 0 | N15: =+'inventario activos'!O15 -> 0 | O15: =+'inventario activos'!P15 -> 0 | P15: =+'inventario activos'!Q15 -> 0 | Q15: =+'inventario activos'!U15 -> 0 | R15: =+'inventario activos'!AB15 -> 0
... A74: =+'inventario activos'!E74 -> 0 | B74: =+'inventario activos'!C74 -> 0 | F74: =+'inventario activos'!F74 -> 0 | G74: =+'inventario activos'!G74 -> 0 | I74: =+'inventario activos'!H74 -> 0 | J74: =+'inventario activos'!I74 -> 0 | K74: =+'inventario activos'!J74 -> 0 | L74: =+'inventario activos'!K74 -> 0 | M74: =+'inventario activos'!L74 -> 0 | N74: =+'inventario activos'!O74 -> 0 | O74: =+'inventario activos'!P74 -> 0 | P74: =+'inventario activos'!Q74 -> 0 | Q74: =+'inventario activos'!U74 -> 0 | R74: =+'inventario activos'!AB74 -> 0

Sheet Datos
A2: DEPENDENCIA | B2: IDENTIFICADOR | C2: PROCESO | F2: TIPO | G2: IDIOMA | H2: MedioSoporte | I2: Formatos | J2: InformaciónPublicadaoDisponible | K2: ESTADO | L2: FRECUENCIA | M2: Excepción | N2: ExcepciónParcialoTotal | O2: CONFIDENCIALIDAD | P2: INTEGRIDAD | Q2: DISPONIBILIDAD | R2: CONTIENEDATOSPERSONALES | S2: TIPODEDATOSPERSONALES | T2: AUTORIZACIÓN | U2: DATOESTRATEGICO | V2: DATOABIERTO | W2: CLASIFICACIÓNDEDATOPUBLICADO | X2: TIPODEINFORMACIÓN | Y2: INTEROPERABILIDAD | Z2: INTEROPERABILIDAD2
A3: Dirección General | B3: 100 | C3: Direccionamiento Estrategico | F3: Información | G3: Español | H3: Físico o Análogo | I3: Fisico o Análogo (Papel, fotografia impresa, Cintas magneticas, microfilm, cintas de audio, otros) | J3: Publicada | K3: ACTIVO | L3: Anual | M3: SI | N3: Parcial | O3: INFORMACIÓN PÚBLICA RESERVADA | P3: ALTA | Q3: ALTA | R3: SI | S3: Público | T3: SI | U3: SI | V3: SI | W3: Cultural | X3: Estructurado | Y3: SI | Z3: Interno
A4: Oficina de Control Interno | B4: 110 | C4: Gestión de las Comunicaciones | F4: Hardware | G4: Frances | H4: Digital | I4: Audio (.mp3, .wav, .mpeg-4, .acc, .wma, otros) | J4: Disponible | K4: INACTIVO | L4: Semestral | M4: NO | N4: Total | O4: INFORMACIÓN PÚBLICA CLASIFICADA | P4: MEDIA | Q4: MEDIA | R4: NO | S4: Privado | T4: NO | U4: NO | V4: NO | W4: Ciencia | X4: Semiestructurado | Y4: NO | Z4: Externo
A5: Oficina de Control Disciplinario Interno | B5: 600 | C5: Gestión del Conocimiento y la Innovación | F5: Software | G5: Ingles | H5: Electrónico | I5: Base de datos (.accdb, .adb, apx, .dbs, .dbf, .mdb, .odb, otros) | J5: N/A | K5: N/A | L5: Trimestral | M5: N/A | N5: N/A | O5: INFORMACIÓN PÚBLICA | P5: BAJA | Q5: BAJA | R5: N/A | S5: Semiprivado | T5: N/A | U5: N/A | V5: N/A | W5: Finanzas | X5: No Estructurado | Y5: N/A | Z5: N/A
A6: Oficina Asesora de Comunicaciones y relaciones Interinstitucionales | B6: 120 | C6: Gestión Disciplinaria Interna | F6: Servicios | G6: Italiano | H6: Fisico y Digital | I6: Hoja de cálculo (.xls, .xlsm, .csv, .ods, otros) | L6: Bimensual | O6: NO CLASIFICADA | P6: NO CLASIFICADA | Q6: NO CLASIFICADA | S6: Sensible | W6: Estadísticas | X6: N/A
A7: Oficina Asesora de Planeación | B7: 130 | C7: Participación Ciudadana | F7: Recurso Humano | G7: Mandarín | H7: N/A | I7: Imagen (.jpeg, .jpg, .gif, .png, .tiff, .tif, .bmp, .psd, otros) | L7: Mensual | S7: Datos personales de niños, ninas o adolescentes | W7: Tiempo
A8: Oficina de Tecnología de la Información y las Comunicaciones | B8: 140 | C8: Alumbrado Público | F8: Instalaciones | G8: Portugués | I8: Documentos de texto (.txt, .odt, .docx, .odc, .pdf, .pdfa, otros) | L8: Quincenal | S8: N/A | W8: Medio Ambiente
A9: Subdirección de RBL | B9: 200 | C9: Servicios Funerarios | F9: Otros | G9: Otro | I9: Presentación (.ppt, .pptx, .pptm, odp, otros) | L9: Semanal | W9: Transporte
A10: Subdirección de Disposición Final | B10: 300 | C10: Gestión Integral de Residuos | G10: N/A | I10: Software, Api, Otros. | L10: Diario | W10: Otro
A11: Subdirección de Servicios Funerarios y Alumbrado Público | B11: 400 | C11: Gestión del Talento Humano | I11: Video (.avi, .mp4, .mkv, .flv, .wmv, otros) | L11: Por demanda | W11: N/A
A12: Subdirección de Aprovechamiento | B12: 500 | C12: Gestión Financiera | I12: OTROS | L12: Otro
A13: Subdirección de Asuntos Legales | B13: 600 | C13: Gestión de Apoyo Logístico | I13: N/A | L13: N/A
A14: Subdirección Administrativa y Financiera | B14: 700 | C14: Gestión Tecnológica y de la Información
C15: Gestión de Asuntos Legales
C16: Gestión Documental
C17: Servicio al Ciudadano
C18: Gestión de Evaluación y Mejora
